Workbook
Name Průřez_Kat.: #N/A

Sheet výsledek
A1: Datum: | B1: =TODAY() -> 46312 | F1: Obtížnost: | G1: 1
A3: Dospělí:
A4: Poř. | B4: Jméno | C4: R.n. | D4: Kat. | E4: Pohl. | F4: Klub | G4: Čas | H4: Body | I4: Rekordy | J4: Rodina | K4: Sourozenci | L4: Partneři | M4: Body | N4: Body: | R4: Kategorie 2026/2027: | T4: Ročníky
A5: 1 | D5: =IF(AND(C5<=2013,C5>=2012,E5="M"),"Žci",IF(AND(C5<=2013,C5>=2012,E5="Ž"),"Žky",IF(AND(C5<=2011,C5>=2008,E5="M"),"J",IF(AND(C5<=2007,C5>=1988,E5="M"),"MA",IF(AND(C5<=2007,C5>=1993,E5="Ž"),"ŽA",IF(AND(C5<=2011,C5>=2008,E5="Ž"),"Jky",IF(AND(C5<=1987,C5>=1978,E5="M"),"V1",IF(AND(C5<=1977,C5>=1968,E5="M"),"V2",IF(AND(C5<=1967,C5>=1958,E5="M"),"V3",IF(AND(C5<=1957,E5="M"),"V4",IF(AND(C5<=1992,C5>=1978,E5="Ž"),"ŽV1",IF(AND(C5<=1977,E5="Ž"),"ŽV2")))))))))))) -> FALSE | H5: =IF(I5="TR",(G$1*N5)+50,G$1*N5) -> 350 | M5: =IF(I5="TR",(G$1*N5)+50,G$1*N5) -> 350 | N5: 350 | R5: MA | S5: 20-39 let | T5: 07-88
A6: 2 | H6: =IF(I6="TR",(G$1*N6)+50,G$1*N6) -> 342 | M6: =IF(I6="TR",(G$1*N6)+50,G$1*N6) -> 342 | N6: 342 | R6: V1 | S6: 40-49 let | T6: 87-78
A7: 3 | H7: =IF(I7="TR",(G$1*N7)+50,G$1*N7) -> 334 | M7: =IF(I7="TR",(G$1*N7)+50,G$1*N7) -> 334 | N7: 334 | R7: V2 | S7: 50-59 let | T7: 77-68
A8: 4 | H8: =IF(I8="TR",(G$1*N8)+50,G$1*N8) -> 326 | M8: =IF(I8="TR",(G$1*N8)+50,G$1*N8) -> 326 | N8: 326 | R8: V3 | S8: 60-69 let | T8: 67-58
A9: 5 | H9: =IF(I9="TR",(G$1*N9)+50,G$1*N9) -> 318 | M9: =IF(I9="TR",(G$1*N9)+50,G$1*N9) -> 318 | N9: 318 | R9: V4 | S9: nad 70 let | T9: 57 a starší
A10: 6 | H10: =IF(I10="TR",(G$1*N10)+50,G$1*N10) -> 311 | M10: =IF(I10="TR",(G$1*N10)+50,G$1*N10) -> 311 | N10: 311 | R10: ŽA | S10: 20-34 let | T10: 07-93
A11: 7 | H11: =IF(I11="TR",(G$1*N11)+50,G$1*N11) -> 304 | M11: =IF(I11="TR",(G$1*N11)+50,G$1*N11) -> 304 | N11: 304 | R11: ŽV1 | S11: 35-49 let | T11: 92-78
A12: 8 | H12: =IF(I12="TR",(G$1*N12)+50,G$1*N12) -> 297 | M12: =IF(I12="TR",(G$1*N12)+50,G$1*N12) -> 297 | N12: 297 | R12: ŽV2 | S12: nad 50 let | T12: 77 a starší
A13: 9 | H13: =IF(I13="TR",(G$1*N13)+50,G$1*N13) -> 290 | M13: =IF(I13="TR",(G$1*N13)+50,G$1*N13) -> 290 | N13: 290 | R13: J | S13: 16-19 let | T13: 11-08
A14: 10 | H14: =IF(I14="TR",(G$1*N14)+50,G$1*N14) -> 283 | M14: =IF(I14="TR",(G$1*N14)+50,G$1*N14) -> 283 | N14: 283 | R14: Jky | S14: 16-19 let | T14: 11-08
A15: 11 | H15: =IF(I15="TR",(G$1*N15)+50,G$1*N15) -> 277 | M15: =IF(I15="TR",(G$1*N15)+50,G$1*N15) -> 277 | N15: 277 | R15: Žci | S15: 14-15 let | T15: 13-12
A16: 12 | H16: =IF(I16="TR",(G$1*N16)+50,G$1*N16) -> 271 | M16: =IF(I16="TR",(G$1*N16)+50,G$1*N16) -> 271 | N16: 271 | R16: Žky | S16: 14-15 let | T16: 13-12
A17: 13 | H17: =IF(I17="TR",(G$1*N17)+50,G$1*N17) -> 265 | M17: =IF(I17="TR",(G$1*N17)+50,G$1*N17) -> 265 | N17: 265 | R17: Žcm | S17: 12-13 let | T17: 15-14
... A22: 18 | H22: =IF(I22="TR",(G$1*N22)+50,G$1*N22) -> 238 | M22: =IF(I22="TR",(G$1*N22)+50,G$1*N22) -> 238 | N22: 238 | R22: PříprD | S22: 9 let a mlaší | T22: 18 a mladší
A23: 19 | H23: =IF(I23="TR",(G$1*N23)+50,G$1*N23) -> 233 | M23: =IF(I23="TR",(G$1*N23)+50,G$1*N23) -> 233 | N23: 233
A24: 20 | H24: =IF(I24="TR",(G$1*N24)+50,G$1*N24) -> 228 | M24: =IF(I24="TR",(G$1*N24)+50,G$1*N24) -> 228 | N24: 228
A25: 21 | H25: =IF(I25="TR",(G$1*N25)+50,G$1*N25) -> 224 | M25: =IF(I25="TR",(G$1*N25)+50,G$1*N25) -> 224 | N25: 224
A26: 22 | H26: =IF(I26="TR",(G$1*N26)+50,G$1*N26) -> 220 | M26: =IF(I26="TR",(G$1*N26)+50,G$1*N26) -> 220 | N26: 220
A27: 23 | H27: =IF(I27="TR",(G$1*N27)+50,G$1*N27) -> 216 | M27: =IF(I27="TR",(G$1*N27)+50,G$1*N27) -> 216 | N27: 216
A28: 24 | H28: =IF(I28="TR",(G$1*N28)+50,G$1*N28) -> 212 | M28: =IF(I28="TR",(G$1*N28)+50,G$1*N28) -> 212 | N28: 212
A29: 25 | H29: =IF(I29="TR",(G$1*N29)+50,G$1*N29) -> 208 | M29: =IF(I29="TR",(G$1*N29)+50,G$1*N29) -> 208 | N29: 208
A30: 26 | H30: =IF(I30="TR",(G$1*N30)+50,G$1*N30) -> 205 | M30: =IF(I30="TR",(G$1*N30)+50,G$1*N30) -> 205 | N30: 205
A31: 27 | H31: =IF(I31="TR",(G$1*N31)+50,G$1*N31) -> 202 | M31: =IF(I31="TR",(G$1*N31)+50,G$1*N31) -> 202 | N31: 202
A32: 28 | H32: =IF(I32="TR",(G$1*N32)+50,G$1*N32) -> 199 | M32: =IF(I32="TR",(G$1*N32)+50,G$1*N32) -> 199 | N32: 199
A33: 29 | H33: =IF(I33="TR",(G$1*N33)+50,G$1*N33) -> 196 | M33: =IF(I33="TR",(G$1*N33)+50,G$1*N33) -> 196 | N33: 196
A34: 30 | H34: =IF(I34="TR",(G$1*N34)+50,G$1*N34) -> 193 | M34: =IF(I34="TR",(G$1*N34)+50,G$1*N34) -> 193 | N34: 193
... A204: 200 | H204: =IF(I204="TR",(G$1*N204)+50,G$1*N204) -> 1 | M204: =IF(I204="TR",(G$1*N204)+50,G$1*N204) -> 1 | N204: 1
A205: 201 | H205: =IF(I205="TR",(G$1*N205)+50,G$1*N205) -> 0 | M205: =IF(I205="TR",(G$1*N205)+50,G$1*N205) -> 0
A206: 202 | H206: =IF(I206="TR",(G$1*N206)+50,G$1*N206) -> 0 | M206: =IF(I206="TR",(G$1*N206)+50,G$1*N206) -> 0
A207: 203 | H207: =IF(I207="TR",(G$1*N207)+50,G$1*N207) -> 0 | M207: =IF(I207="TR",(G$1*N207)+50,G$1*N207) -> 0
A208: 204 | H208: =IF(I208="TR",(G$1*N208)+50,G$1*N208) -> 0 | M208: =IF(I208="TR",(G$1*N208)+50,G$1*N208) -> 0
A209: 205 | H209: =IF(I209="TR",(G$1*N209)+50,G$1*N209) -> 0 | M209: =IF(I209="TR",(G$1*N209)+50,G$1*N209) -> 0
A210: 206 | H210: =IF(I210="TR",(G$1*N210)+50,G$1*N210) -> 0 | M210: =IF(I210="TR",(G$1*N210)+50,G$1*N210) -> 0
A211: 207 | H211: =IF(I211="TR",(G$1*N211)+50,G$1*N211) -> 0 | M211: =IF(I211="TR",(G$1*N211)+50,G$1*N211) -> 0
A212: 208 | H212: =IF(I212="TR",(G$1*N212)+50,G$1*N212) -> 0 | M212: =IF(I212="TR",(G$1*N212)+50,G$1*N212) -> 0
A213: 209 | H213: =IF(I213="TR",(G$1*N213)+50,G$1*N213) -> 0 | M213: =IF(I213="TR",(G$1*N213)+50,G$1*N213) -> 0
A214: 210 | H214: =IF(I214="TR",(G$1*N214)+50,G$1*N214) -> 0 | M214: =IF(I214="TR",(G$1*N214)+50,G$1*N214) -> 0
...

Sheet Kopírované výsledky
A1: Jméno | B1: R.n. | C1: Kat. | D1: Pohl. | E1: Klub | F1: Čas | G1: Body | H1: Rekordy | I1: Rodina | J1: Sourozenci | K1: Partneři | L1: Body pro družstva | M1: kolo

Sheet Souhrny
B1: Kategorie | C1: (prázdné)
B2: Pohl. | C2: (prázdné)
A3: Poř.
E4: Hodnoty
B5: Jméno | C5: R.n. | D5: Klub | E5: Účast | F5: Součet bodů
A6: 1 | B6: (prázdné) | C6: (prázdné) | D6: (prázdné)
A7: 2
A8: 3
A9: 4
A10: 5
A11: 6
A12: 7
A13: 8
A14: 9
A15: 10
A16: 11
A17: 12
A18: 13
... A234: 229

Sheet Sourozenci
D1: Kriteria
D2: Sourozenci | E2: Sourozenci | F2: Sourozenci | G2: Sourozenci | H2: Sourozenci | I2: Sourozenci | J2: Sourozenci | K2: Sourozenci | L2: Sourozenci | M2: Sourozenci | N2: Sourozenci | O2: Sourozenci | P2: Sourozenci | Q2: Sourozenci | R2: Sourozenci | S2: Sourozenci | T2: Sourozenci | U2: Sourozenci | V2: Sourozenci | W2: Sourozenci | X2: Sourozenci | Y2: Sourozenci | Z2: Sourozenci | AA2: Sourozenci | AB2: Sourozenci | AC2: Sourozenci | AD2: Sourozenci | AE2: Sourozenci | AF2: Sourozenci | AG2: Sourozenci | AH2: Sourozenci | AI2: Sourozenci | AJ2: Sourozenci | AK2: Sourozenci | AL2: Sourozenci | AM2: Sourozenci | AN2: Sourozenci | AO2: Sourozenci | AP2: Sourozenci | AQ2: Sourozenci | AR2: Sourozenci | AS2: Sourozenci | AT2: Sourozenci | AU2: Sourozenci | AV2: Sourozenci | AW2: Sourozenci | AX2: Sourozenci | AY2: Sourozenci | AZ2: Sourozenci | BA2: Sourozenci
A3: Sourozenci: | B3: Body: | D3: Zubkovi | E3: Lhotských | F3: Přibilovy | G3: Štambergovi | H3: Boreckých | I3: Čechovi | J3: Bekovi | K3: Novotní | L3: Kačmarčíková,Holcr | M3: Kohoutek,Šaláta | N3: HA Provazníkovi | O3: Leštinovi | P3: Řezníčkovi | Q3: Hrdinovi | R3: Šupolovi | S3: Šimkovi | T3: Kocianovi | U3: PB Provazníkovi | V3: Šaláta-Kohoutek | W3: Hartl-Soukupová | X3: Šalátovi | Y3: Majákovi | Z3: Lomascolo | AA3: Runtovi | AB3: Kačmarčíkovi | AC3: Spoustovi | AD3: Jakešovi | AE3: Šmeráková-Urban | AF3: Cimermanovi | AG3: Stránští | AH3: Duškovi | AI3: Šimůnkovy | AJ3: Ryzákovy | AK3: Bursey | AL3: Zimermanovi | AM3: Luxovy | AN3: Křikavovi | AO3: Dlaskovi | AP3: Kelnerovi | AQ3: Zbuzkovi | AR3: Lindauerovi | AS3: Michalcovi | AT3: Novotní | AU3: Paulovy | AV3: Žákovi | AX3: Vadlejchová-Bolomská | AY3: Hradilovi | AZ3: Soukupovi | BA3: Špácovi
A4: Zubkovi | B4: =DSUM('Kopírované výsledky'!J$1:L$2451,'Kopírované výsledky'!L$1,D$2:D$3) -> 0
A5: Lhotských | B5: =DSUM('Kopírované výsledky'!J$1:L$2451,'Kopírované výsledky'!L$1,E$2:E$3) -> 0
A6: Přibilovy | B6: =DSUM('Kopírované výsledky'!J$1:L$2451,'Kopírované výsledky'!L$1,F$2:F$3) -> 0
A7: Štambergovi | B7: =DSUM('Kopírované výsledky'!J$1:L$2451,'Kopírované výsledky'!L$1,G$2:G$3) -> 0
A8: Boreckých | B8: =DSUM('Kopírované výsledky'!J$1:L$2451,'Kopírované výsledky'!L$1,H$2:H$3) -> 0
A9: Čechovi | B9: =DSUM('Kopírované výsledky'!J$1:L$2451,'Kopírované výsledky'!L$1,I$2:I$3) -> 0
A10: Bekovi | B10: =DSUM('Kopírované výsledky'!J$1:L$2451,'Kopírované výsledky'!L$1,J$2:J$3) -> 0
A11: Novotní | B11: =DSUM('Kopírované výsledky'!J$1:L$2451,'Kopírované výsledky'!L$1,K$2:K$3) -> 0
A12: Kačmarčíková,Holcr | B12: =DSUM('Kopírované výsledky'!J$1:L$2451,'Kopírované výsledky'!L$1,L$2:L$3) -> 0
A13: Kohoutek,Šaláta | B13: =DSUM('Kopírované výsledky'!J$1:L$2451,'Kopírované výsledky'!L$1,M$2:M$3) -> 0
A14: HA Provazníkovi | B14: =DSUM('Kopírované výsledky'!J$1:L$2451,'Kopírované výsledky'!L$1,N$2:N$3) -> 0
A15: Leštinovi | B15: =DSUM('Kopírované výsledky'!J$1:L$2451,'Kopírované výsledky'!L$1,O$2:O$3) -> 0
A16: Řezníčkovi | B16: =DSUM('Kopírované výsledky'!J$1:L$2451,'Kopírované výsledky'!L$1,P$2:P$3) -> 0
A17: Krátcí | B17: =DSUM('Kopírované výsledky'!J$1:L$2451,'Kopírované výsledky'!L$1,Q$2:Q$3) -> 0
A18: Šupolovi | B18: =DSUM('Kopírované výsledky'!J$1:L$2451,'Kopírované výsledky'!L$1,R$2:R$3) -> 0
A19: Šimkovi | B19: =DSUM('Kopírované výsledky'!J$1:L$2451,'Kopírované výsledky'!L$1,S$2:S$3) -> 0
A20: Kocianovi | B20: =DSUM('Kopírované výsledky'!J$1:L$2451,'Kopírované výsledky'!L$1,T$2:T$3) -> 0
A21: PB Provazníkovi | B21: =DSUM('Kopírované výsledky'!J$1:L$2451,'Kopírované výsledky'!L$1,U$2:U$3) -> 0
A22: Šaláta-Kohoutek | B22: =DSUM('Kopírované výsledky'!J$1:L$2451,'Kopírované výsledky'!L$1,V$2:V$3) -> 0
A23: Hartl-Soukupová | B23: =DSUM('Kopírované výsledky'!J$1:L$2451,'Kopírované výsledky'!L$1,W$2:W$3) -> 0
A24: Šalátovi | B24: =DSUM('Kopírované výsledky'!J$1:L$2451,'Kopírované výsledky'!L$1,X$2:X$3) -> 0
A25: Majákovi | B25: =DSUM('Kopírované výsledky'!J$1:L$2451,'Kopírované výsledky'!L$1,Y$2:Y$3) -> 0
A26: Lomascolo | B26: =DSUM('Kopírované výsledky'!J$1:L$2451,'Kopírované výsledky'!L$1,Z$2:Z$3) -> 0
A27: Runtovi | B27: =DSUM('Kopírované výsledky'!J$1:L$2451,'Kopírované výsledky'!L$1,AA$2:AA$3) -> 0
A28: Kačmarčíkovi | B28: =DSUM('Kopírované výsledky'!J$1:L$2451,'Kopírované výsledky'!L$1,AB$2:AB$3) -> 0
A29: Spoustovi | B29: =DSUM('Kopírované výsledky'!J$1:L$2451,'Kopírované výsledky'!L$1,AC$2:AC$3) -> 0
A30: Jakešovi | B30: =DSUM('Kopírované výsledky'!J$1:L$2451,'Kopírované výsledky'!L$1,AD$2:AD$3) -> 0
A31: Šmeráková-Urban | B31: =DSUM('Kopírované výsledky'!J$1:L$2451,'Kopírované výsledky'!L$1,AE$2:AE$3) -> 0
A32: Cimermanovi | B32: =DSUM('Kopírované výsledky'!J$1:L$2451,'Kopírované výsledky'!L$1,AF$2:AF$3) -> 0
A33: Stránští | B33: =DSUM('Kopírované výsledky'!J$1:L$2451,'Kopírované výsledky'!L$1,AG$2:AG$3) -> 0
A34: Duškovi | B34: =DSUM('Kopírované výsledky'!J$1:L$2451,'Kopírované výsledky'!L$1,AH$2:AH$3) -> 0
A35: Šimůnkovy | B35: =DSUM('Kopírované výsledky'!J$1:L$2451,'Kopírované výsledky'!L$1,AI$2:AI$3) -> 0
A36: Ryzákovy | B36: =DSUM('Kopírované výsledky'!J$1:L$2451,'Kopírované výsledky'!L$1,AJ$2:AJ$3) -> 0
A37: Bursey | B37: =DSUM('Kopírované výsledky'!J$1:L$2451,'Kopírované výsledky'!L$1,AK$2:AK$3) -> 0
A38: Zimermanovi | B38: =DSUM('Kopírované výsledky'!J$1:L$2451,'Kopírované výsledky'!L$1,AL$2:AL$3) -> 0
A39: Luxovy | B39: =DSUM('Kopírované výsledky'!J$1:L$2451,'Kopírované výsledky'!L$1,AM$2:AM$3) -> 0
A40: Křikavovi | B40: =DSUM('Kopírované výsledky'!J$1:L$2451,'Kopírované výsledky'!L$1,AN$2:AN$3) -> 0
...

Sheet Rodina
D1: Kriteria
D2: Rodina | E2: Rodina | F2: Rodina | G2: Rodina | H2: Rodina | I2: Rodina | J2: Rodina | K2: Rodina | L2: Rodina | M2: Rodina | N2: Rodina | O2: Rodina | P2: Rodina | Q2: Rodina | R2: Rodina | S2: Rodina | T2: Rodina | U2: Rodina | V2: Rodina | W2: Rodina | X2: Rodina | Y2: Rodina | Z2: Rodina | AA2: Rodina | AB2: Rodina | AC2: Rodina | AD2: Rodina | AE2: Rodina | AF2: Rodina
D3: Soukupovi | E3: Krátcí | F3: Štambergovi | G3: Dlaskovi | H3: Přibilovi | I3: Janíkovi | J3: Jandovi | K3: Lhotských | L3: Jedličková-Malých | M3: Provazníkovi | N3: Runtovi | O3: Šalátovi | P3: Čechovi | Q3: Majákovi | R3: Podhorní | S3: Jechovi | T3: Lindauerovi | U3: Kačmarčíkovi | V3: Ulrichovi | W3: Stejskalovi | X3: Šefrovi | Y3: Andreovských | Z3: Pavlinských | AA3: Vodochodských | AB3: Duškovi | AC3: Rosolovi | AD3: Zbuzkovi | AE3: Luxovi | AF3: Zubkovi
A4: Rodina: | B4: Body:
A5: Soukupovi | B5: =DSUM('Kopírované výsledky'!I$1:L$2451,'Kopírované výsledky'!L$1,D$2:D$3) -> 0
A6: Krátcí | B6: =DSUM('Kopírované výsledky'!I$1:L$2451,'Kopírované výsledky'!L$1,E$2:E$3) -> 0
A7: Štambergovi | B7: =DSUM('Kopírované výsledky'!I$1:L$2451,'Kopírované výsledky'!L$1,F$2:F$3) -> 0
A8: Dlaskovi | B8: =DSUM('Kopírované výsledky'!I$1:L$2451,'Kopírované výsledky'!L$1,G$2:G$3) -> 0
A9: Přibilovi | B9: =DSUM('Kopírované výsledky'!I$1:L$2451,'Kopírované výsledky'!L$1,H$2:H$3) -> 0
A10: Janíkovi | B10: =DSUM('Kopírované výsledky'!I$1:L$2451,'Kopírované výsledky'!L$1,I$2:I$3) -> 0
A11: Jandovi | B11: =DSUM('Kopírované výsledky'!I$1:L$2451,'Kopírované výsledky'!L$1,J$2:J$3) -> 0
A12: Lhotských | B12: =DSUM('Kopírované výsledky'!I$1:L$2451,'Kopírované výsledky'!L$1,K$2:K$3) -> 0
A13: Jedličková-Malých | B13: =DSUM('Kopírované výsledky'!I$1:L$2451,'Kopírované výsledky'!L$1,L$2:L$3) -> 0
A14: Provazníkovi | B14: =DSUM('Kopírované výsledky'!I$1:L$2451,'Kopírované výsledky'!L$1,M$2:M$3) -> 0
A15: Runtovi | B15: =DSUM('Kopírované výsledky'!I$1:L$2451,'Kopírované výsledky'!L$1,N$2:N$3) -> 0
A16: Šalátovi | B16: =DSUM('Kopírované výsledky'!I$1:L$2451,'Kopírované výsledky'!L$1,O$2:O$3) -> 0
A17: Čechovi | B17: =DSUM('Kopírované výsledky'!I$1:L$2451,'Kopírované výsledky'!L$1,P$2:P$3) -> 0
A18: Majákovi | B18: =DSUM('Kopírované výsledky'!I$1:L$2451,'Kopírované výsledky'!L$1,Q$2:Q$3) -> 0
A19: Podhorní | B19: =DSUM('Kopírované výsledky'!I$1:L$2451,'Kopírované výsledky'!L$1,R$2:R$3) -> 0
A20: Jechovi | B20: =DSUM('Kopírované výsledky'!I$1:L$2451,'Kopírované výsledky'!L$1,S$2:S$3) -> 0
A21: Lindauerovi | B21: =DSUM('Kopírované výsledky'!I$1:L$2451,'Kopírované výsledky'!L$1,T$2:T$3) -> 0
A22: Kačmarčíkovi | B22: =DSUM('Kopírované výsledky'!I$1:L$2451,'Kopírované výsledky'!L$1,U$2:U$3) -> 0
A23: Ulrichovi | B23: =DSUM('Kopírované výsledky'!I$1:L$2451,'Kopírované výsledky'!L$1,V$2:V$3) -> 0
A24: Stejskalovi | B24: =DSUM('Kopírované výsledky'!I$1:L$2451,'Kopírované výsledky'!L$1,W$2:W$3) -> 0
A25: Šefrovi | B25: =DSUM('Kopírované výsledky'!I$1:L$2451,'Kopírované výsledky'!L$1,X$2:X$3) -> 0
A26: Andreovských | B26: =DSUM('Kopírované výsledky'!I$1:L$2451,'Kopírované výsledky'!L$1,Y$2:Y$3) -> 0
A27: Pavlinských | B27: =DSUM('Kopírované výsledky'!I$1:L$2451,'Kopírované výsledky'!L$1,Z$2:Z$3) -> 0
A28: Vodochodských | B28: =DSUM('Kopírované výsledky'!I$1:L$2451,'Kopírované výsledky'!L$1,AA$2:AA$3) -> 0
A29: Duškovi | B29: =DSUM('Kopírované výsledky'!I$1:L$2451,'Kopírované výsledky'!L$1,AB$2:AB$3) -> 0
A30: Rosolovi | B30: =DSUM('Kopírované výsledky'!I$1:L$2451,'Kopírované výsledky'!L$1,AC$2:AC$3) -> 0
A31: Zbuzkovi | B31: =DSUM('Kopírované výsledky'!I$1:L$2451,'Kopírované výsledky'!L$1,AD$2:AD$3) -> 0
A32: Luxovi | B32: =DSUM('Kopírované výsledky'!I$1:L$2451,'Kopírované výsledky'!L$1,AE$2:AE$3) -> 0
A33: Zubkovi | B33: =DSUM('Kopírované výsledky'!I$1:L$2451,'Kopírované výsledky'!L$1,AF$2:AF$3) -> 0
A40: Pro výsledky
B41: Rodina: | C41: Body:
A42: 1 | B42: Čechovi | C42: 10714
A43: 2 | B43: Přibilovi | C43: 10353
A44: 3 | B44: Provazníkovi | C44: 7025
A45: 4 | B45: Soukupovi | C45: 5668
A46: 5 | B46: Lindauerovi | C46: 4947
...

Sheet Partneři
D1: Kriteria
D2: Partneři | E2: Partneři | F2: Partneři | G2: Partneři | H2: Partneři | I2: Partneři | J2: Partneři | K2: Partneři | L2: Partneři | M2: Partneři | N2: Partneři | O2: Partneři | P2: Partneři | Q2: Partneři | R2: Partneři | S2: Partneři | T2: Partneři | U2: Partneři | V2: Partneři | W2: Partneři | X2: Partneři | Y2: Partneři | Z2: Partneři | AA2: Partneři | AB2: Partneři | AC2: Partneři | AD2: Partneři | AE2: Partneři | AF2: Partneři | AG2: Partneři | AH2: Partneři | AI2: Partneři | AJ2: Partneři | AK2: Partneři | AL2: Partneři | AM2: Partneři | AN2: Partneři | AO2: Partneři | AP2: Partneři | AQ2: Partneři | AR2: Partneři | AS2: Partneři | AT2: Partneři
A3: Partneři: | B3: Body: | D3: Janíkovi | E3: Vodochodský-Staňková | F3: Řezníček-Rosolová | G3: Přibil-Hrdličková | H3: Liebichovi | I3: Soukupovi | J3: Smeková-Matis | K3: Preslerovi | L3: Bonkerud-Tudorová | M3: Kohoutkovi | N3: Drahotská-Zubko | O3: Ulrichovi | P3: Stasinka | Q3: Penkovi | R3: Nepráškovi MJ | S3: Kernerová-Jeníkovský | T3: Razakovski | U3: Nepráškovi MP | W3: Blailovi | X3: Vávra-Fajčíková | Y3: Heřmánek-Souchová | Z3: Majákovi | AA3: Provazníkovi | AB3: Doležal,Štěpánková | AC3: Ouzcí | AD3: Rajtmajerovi | AE3: Molcarovi | AF3: Kadlečkovi | AG3: Pavlinští | AH3: Veselí | AI3: Tomanovi | AJ3: Šimána-Strnádková | AK3: Mandzáková-Hurdich | AL3: Pilekovi | AM3: Schmidtovi | AN3: Prokešovi | AO3: Kaválkovi | AP3: Patelovi | AQ3: Walterovi | AR3: Průchovi | AS3: Grzybowská-Jíra | AT3: Bambasovi
A4: Janíkovi | B4: =DSUM('Kopírované výsledky'!K$1:L$2451,'Kopírované výsledky'!L$1,D$2:D$3) -> 0
A5: Vodochodský-Staňková | B5: =DSUM('Kopírované výsledky'!K$1:L$2451,'Kopírované výsledky'!L$1,E$2:E$3) -> 0
A6: Řezníček-Rosolová | B6: =DSUM('Kopírované výsledky'!K$1:L$2451,'Kopírované výsledky'!L$1,F$2:F$3) -> 0
A7: Přibil-Hrdličková | B7: =DSUM('Kopírované výsledky'!K$1:L$2451,'Kopírované výsledky'!L$1,G$2:G$3) -> 0
A8: Liebichovi | B8: =DSUM('Kopírované výsledky'!K$1:L$2451,'Kopírované výsledky'!L$1,H$2:H$3) -> 0
A9: Soukupovi | B9: =DSUM('Kopírované výsledky'!K$1:L$2451,'Kopírované výsledky'!L$1,I$2:I$3) -> 0
A10: Smeková-Matis | B10: =DSUM('Kopírované výsledky'!K$1:L$2451,'Kopírované výsledky'!L$1,J$2:J$3) -> 0
A11: Preslerovi | B11: =DSUM('Kopírované výsledky'!K$1:L$2451,'Kopírované výsledky'!L$1,K$2:K$3) -> 0
A12: Bonkerud-Tudorová | B12: =DSUM('Kopírované výsledky'!K$1:L$2451,'Kopírované výsledky'!L$1,L$2:L$3) -> 0
A13: Kohoutkovi | B13: =DSUM('Kopírované výsledky'!K$1:L$2451,'Kopírované výsledky'!L$1,M$2:M$3) -> 0
A14: Drahotská-Zubko | B14: =DSUM('Kopírované výsledky'!K$1:L$2451,'Kopírované výsledky'!L$1,N$2:N$3) -> 0
A15: Ulrichovi | B15: =DSUM('Kopírované výsledky'!K$1:L$2451,'Kopírované výsledky'!L$1,O$2:O$3) -> 0
A16: Stasinka | B16: =DSUM('Kopírované výsledky'!K$1:L$2451,'Kopírované výsledky'!L$1,P$2:P$3) -> 0
A17: Penkovi | B17: =DSUM('Kopírované výsledky'!K$1:L$2451,'Kopírované výsledky'!L$1,Q$2:Q$3) -> 0
A18: Nepráškovi MJ | B18: =DSUM('Kopírované výsledky'!K$1:L$2451,'Kopírované výsledky'!L$1,R$2:R$3) -> 0
A19: Kernerová-Jeníkovský | B19: =DSUM('Kopírované výsledky'!K$1:L$2451,'Kopírované výsledky'!L$1,S$2:S$3) -> 0
A20: Razakovski | B20: =DSUM('Kopírované výsledky'!K$1:L$2451,'Kopírované výsledky'!L$1,T$2:T$3) -> 0
A21: Nepráškovi MP | B21: =DSUM('Kopírované výsledky'!K$1:L$2451,'Kopírované výsledky'!L$1,U$2:U$3) -> 0
A23: Blailovi | B23: =DSUM('Kopírované výsledky'!K$1:L$2451,'Kopírované výsledky'!L$1,W$2:W$3) -> 0
A24: Vávra-Fajčíková | B24: =DSUM('Kopírované výsledky'!K$1:L$2451,'Kopírované výsledky'!L$1,X$2:X$3) -> 0
A25: Heřmánek-Souchová | B25: =DSUM('Kopírované výsledky'!K$1:L$2451,'Kopírované výsledky'!L$1,Y$2:Y$3) -> 0
A26: Majákovi | B26: =DSUM('Kopírované výsledky'!K$1:L$2451,'Kopírované výsledky'!L$1,Z$2:Z$3) -> 0
A27: Provazníkovi | B27: =DSUM('Kopírované výsledky'!K$1:L$2451,'Kopírované výsledky'!L$1,AA$2:AA$3) -> 0
A28: Doležal,Štěpánková | B28: =DSUM('Kopírované výsledky'!K$1:L$2451,'Kopírované výsledky'!L$1,AB$2:AB$3) -> 0
A29: Ouzcí | B29: =DSUM('Kopírované výsledky'!K$1:L$2451,'Kopírované výsledky'!L$1,AC$2:AC$3) -> 0
A30: Rajtmajerovi | B30: =DSUM('Kopírované výsledky'!K$1:L$2451,'Kopírované výsledky'!L$1,AD$2:AD$3) -> 0
A31: Molcarovi | B31: =DSUM('Kopírované výsledky'!K$1:L$2451,'Kopírované výsledky'!L$1,AE$2:AE$3) -> 0
A32: Kadlečkovi | B32: =DSUM('Kopírované výsledky'!K$1:L$2451,'Kopírované výsledky'!L$1,AF$2:AF$3) -> 0
A33: Pavlinští | B33: =DSUM('Kopírované výsledky'!K$1:L$2451,'Kopírované výsledky'!L$1,AG$2:AG$3) -> 0
A34: Veselí | B34: =DSUM('Kopírované výsledky'!K$1:L$2451,'Kopírované výsledky'!L$1,AH$2:AH$3) -> 0
A35: Tomanovi | B35: =DSUM('Kopírované výsledky'!K$1:L$2451,'Kopírované výsledky'!L$1,AI$2:AI$3) -> 0
A36: Šimána-Strnádková | B36: =DSUM('Kopírované výsledky'!K$1:L$2451,'Kopírované výsledky'!L$1,AJ$2:AJ$3) -> 0
A37: Mandzáková-Hurdich | B37: =DSUM('Kopírované výsledky'!K$1:L$2451,'Kopírované výsledky'!L$1,AK$2:AK$3) -> 0
A38: Pilekovi | B38: =DSUM('Kopírované výsledky'!K$1:L$2451,'Kopírované výsledky'!L$1,AL$2:AL$3) -> 0
A39: Schmidtovi | B39: =DSUM('Kopírované výsledky'!K$1:L$2451,'Kopírované výsledky'!L$1,AM$2:AM$3) -> 0
A40: Prokešovi | B40: =DSUM('Kopírované výsledky'!K$1:L$2451,'Kopírované výsledky'!L$1,AN$2:AN$3) -> 0
A41: Kaválkovi | B41: =DSUM('Kopírované výsledky'!K$1:L$2451,'Kopírované výsledky'!L$1,AO$2:AO$3) -> 0
...

Sheet Týmy 26-27
A1: Počet | B1: Sourrozenci | C1: Partneři | D1: Rodiny
A2: 1 | B2: BEKOVI Ondřej a Barbora | C2: DRAHOTSKÁ Sabina + ZUBKO Jan | D2: KRÁTCÍ Luboš st, Luboš ml. a Vojtěch
A3: 2 | B3: ČECHOVI Tomáš a David | C3: BONKERUD Tor Martin + TUDOROVÁ Markéta | D3: ČECHOVI Pavel, Tomáš a David
A4: 3 | B4: NOVOTNÍ Josef a Viktorie | C4: DOLEŽAL Petr a ŠTĚPÁNKOVÁ Martina | D4: SOUKUPOVI Lukáš, Zdenka a Tobiáš
A5: 4 | B5: MAJÁKOVI Noemi a Daniel | C5: JANÍKOVI Oldřich a Denisa | D5: JANDOVI Martin, Martin ml. a Jan
A6: 5 | B6: KRÁTCÍ Luboš ml. a Vojtěch | C6: KADLEČKOVI Daniel a Lucie | D6: JANÍKOVI Oldřich, Denisa a Vojtěch
A7: 6 | B7: KAČMARČÍKOVI Petr a Anna | C7: Kalčeva a Jánský | D7: Jedličková Radka, Malý Tadeáš, Malá Sára
A8: 7 | B8: KOCIANOVI Karel a Zuzana | C8: KAVÁLKOVI Daniel a Jana | D8: JECHOVI Dalibor, Matyáš a Elena
A9: 8 | B9: KOHOUTEK Tomáš a ŠALÁTA Jiří | C9: KERNEROVÁ Kristýna a JENÍKOVSKÝ Lukáš | D9: KAČMARČÍKOVI Ilona, Petr a Anna
A10: 9 | B10: LHOTSKÝCH Ginny a Hermiona | C10: KOHOUTKOVI Tomáš a Kateřina | D10: LHOTSKÝCH Veronika, Ginny a Hermiona
A11: 10 | B11: LINDAUEROVI Tom a Dan | C11: LIEBICHOVI Martin a Ilona | D11: LINDAUEROVI Jan, Tom a Dan
A12: 11 | B12: LOMASCOLO Chiara a Laura | C12: MAJÁKOVI David a Bertha | D12: MAJÁKOVI Bertha, Noemi a Daniel
A13: 12 | B13: Kačmarčíková I.a Holcr ml. | C13: MOLCAROVI Miroslav a Jana | D13: PAVLINSKÝ Vladimír, Miluše a Jana
... A30: 29 | B30: ŠPÁCOVI Jiří a Veronika | C30: STASINKA Jan a Jitka | D30: ZUBKOVI Jan, Eliška a Drahotská Sabina
A31: 30 | B31: ŠUPOLOVI Michal a Marcel | C31: ŠIMÁNA Kryštof + STRNÁDKOVÁ Simona
A32: 31 | B32: ULRICHOVI Martin a Václav | C32: ŠTĚPÁNKOVÁ Martina a JABůREK Jiří
A33: 32 | B33: VÁŠOVI Theodor a Emma | C33: TOMANOVI Jaroslav a Jiřina
A34: 33 | B34: VIDEMANNOVY Tereza a Monika | C34: ULRICHOVI Zuzana a Marek
A35: 34 | B35: VODOCHODSKÁ Elen a Elias | C35: VÁVRA Ondřej + FAJČÍKOVÁ Anna
A36: 35 | B36: ZUBKOVY Eliška a Karolína | C36: VODOCHODSKÝ Vladimír + STAŇKOVÁ Lucie
A37: 36
A38: 37
A39: 38
